BEGIN:VCALENDAR
VERSION:2.0
PRODID:-//Squarespace Inc/Squarespace 6//v6//EN
BEGIN:VEVENT
UID:5ab02c8103ce640c3c2e9550@squarespace.com
DTSTAMP:20180319T215517Z
DTSTART:20180321T223000Z
DTEND:20180322T013000Z
SUMMARY:Yonder 
GEO:-45.032836;168.661816
LOCATION:Yonder\, 12 Church St\, Queenstown\, OTA\, 9300\, New Zealand
END:VEVENT
END:VCALENDAR
