BEGIN:VCALENDAR
VERSION:2.0
PRODID:-//Squarespace Inc/Squarespace 6//v6//EN
BEGIN:VEVENT
UID:5ab02e65758d4671e7c5c572@squarespace.com
DTSTAMP:20180319T215456Z
DTSTART:20180321T223000Z
DTEND:20180322T013000Z
SUMMARY:Smith’s Craft Beer House 
GEO:-45.032076;168.658233
LOCATION:Smith’s Craft Beer House\, 53 Shotover Street\, Queenstown\, OTA\, 
 9300\, New Zealand
END:VEVENT
END:VCALENDAR
