BEGIN:VCALENDAR
VERSION:2.0
PRODID:-//Squarespace Inc/Squarespace 6//v6//EN
BEGIN:VEVENT
UID:5ab02e3403ce640c3c2eff35@squarespace.com
DTSTAMP:20180319T215534Z
DTSTART:20180321T223000Z
DTEND:20180322T013000Z
SUMMARY:Finz Seafood & Grill 
GEO:-45.033259;168.658126
LOCATION:Finz Seafood & Grill\, Steamer Wharf\, Queenstown\, New Zealand
END:VEVENT
END:VCALENDAR
